BEGIN:VCALENDAR
VERSION:2.0
PRODID:-//Warrensburg Main Street - ECPv6.15.20//NONSGML v1.0//EN
CALSCALE:GREGORIAN
METHOD:PUBLISH
X-WR-CALNAME:Warrensburg Main Street
X-ORIGINAL-URL:https://warrensburgmainstreet.org
X-WR-CALDESC:Events for Warrensburg Main Street
REFRESH-INTERVAL;VALUE=DURATION:PT1H
X-Robots-Tag:noindex
X-PUBLISHED-TTL:PT1H
BEGIN:VTIMEZONE
TZID:America/Chicago
BEGIN:DAYLIGHT
TZOFFSETFROM:-0600
TZOFFSETTO:-0500
TZNAME:CDT
DTSTART:20250309T080000
END:DAYLIGHT
BEGIN:STANDARD
TZOFFSETFROM:-0500
TZOFFSETTO:-0600
TZNAME:CST
DTSTART:20251102T070000
END:STANDARD
BEGIN:DAYLIGHT
TZOFFSETFROM:-0600
TZOFFSETTO:-0500
TZNAME:CDT
DTSTART:20260308T080000
END:DAYLIGHT
BEGIN:STANDARD
TZOFFSETFROM:-0500
TZOFFSETTO:-0600
TZNAME:CST
DTSTART:20261101T070000
END:STANDARD
BEGIN:DAYLIGHT
TZOFFSETFROM:-0600
TZOFFSETTO:-0500
TZNAME:CDT
DTSTART:20270314T080000
END:DAYLIGHT
BEGIN:STANDARD
TZOFFSETFROM:-0500
TZOFFSETTO:-0600
TZNAME:CST
DTSTART:20271107T070000
END:STANDARD
END:VTIMEZONE
BEGIN:VEVENT
DTSTART;TZID=America/Chicago:20260320T180000
DTEND;TZID=America/Chicago:20260320T220000
DTSTAMP:20260425T063604
CREATED:20251216T204510Z
LAST-MODIFIED:20260115T194816Z
UID:4432-1774029600-1774044000@warrensburgmainstreet.org
SUMMARY:Piccadilly
DESCRIPTION:[vc_row][vc_column][vc_single_image image=”4443″ img_size=”full” alignment=”center” css=””][vc_empty_space][/vc_column][/vc_row][vc_row][vc_column][vc_column_text css=””]Join Warrensburg Main Street for our annual Piccadilly event! Piccadilly is our signature all-women fundraiser celebrating community\, connection\, and downtown Warrensburg. Our fun-filled night is the perfect excuse to dress the theme\, enjoy great food and drinks\, win prizes\, and share laughs while giving back to Downtown Warrensburg. Piccadilly includes dinner\, drinks\, raffles\, a live auction and tons of ways to leave with fun prizes. \nDate: 3/20/2026\nTime: 6:00 pm – 10:00 pm[/vc_column_text][vc_empty_space height=”20px”][/vc_column][/vc_row][vc_row disable_element=”yes”][vc_column][vc_button title=”Facebook Event” target=”_blank” full_width=”true” href=”https://www.facebook.com/events/2040072913139325/”][vc_empty_space height=”10px”][vc_button title=”View Map” target=”_blank” full_width=”true” href=”https://warrensburgmainstreet.org/wp-content/uploads/2025/04/2025-Star-Theater.png”][/vc_column][/vc_row][vc_row disable_element=”yes”][vc_column][vc_empty_space height=”80px”][vc_custom_heading text=”THANK YOU TO OUR SPONSORS!” font_container=”tag:h2|text_align:center” use_theme_fonts=”yes”][vc_separator style=”solid” color=”#0a0a0a” padding_top=”10″ padding_bottom=”20″][vc_empty_space height=”20px”][/vc_column][/vc_row]
URL:https://warrensburgmainstreet.org/piccadilly/
CATEGORIES:Annual Events,Spring Events
ATTACH;FMTTYPE=image/jpeg:https://warrensburgmainstreet.org/wp-content/uploads/2026/01/604737770_1188358186825940_2625396534989995282_n.jpg
END:VEVENT
END:VCALENDAR