BEGIN:VCALENDAR
VERSION:2.0
PRODID:-//Warrensburg Main Street - ECPv6.15.20//NONSGML v1.0//EN
CALSCALE:GREGORIAN
METHOD:PUBLISH
X-ORIGINAL-URL:https://warrensburgmainstreet.org
X-WR-CALDESC:Events for Warrensburg Main Street
REFRESH-INTERVAL;VALUE=DURATION:PT1H
X-Robots-Tag:noindex
X-PUBLISHED-TTL:PT1H
BEGIN:VTIMEZONE
TZID:America/Chicago
BEGIN:DAYLIGHT
TZOFFSETFROM:-0600
TZOFFSETTO:-0500
TZNAME:CDT
DTSTART:20250309T080000
END:DAYLIGHT
BEGIN:STANDARD
TZOFFSETFROM:-0500
TZOFFSETTO:-0600
TZNAME:CST
DTSTART:20251102T070000
END:STANDARD
BEGIN:DAYLIGHT
TZOFFSETFROM:-0600
TZOFFSETTO:-0500
TZNAME:CDT
DTSTART:20260308T080000
END:DAYLIGHT
BEGIN:STANDARD
TZOFFSETFROM:-0500
TZOFFSETTO:-0600
TZNAME:CST
DTSTART:20261101T070000
END:STANDARD
BEGIN:DAYLIGHT
TZOFFSETFROM:-0600
TZOFFSETTO:-0500
TZNAME:CDT
DTSTART:20270314T080000
END:DAYLIGHT
BEGIN:STANDARD
TZOFFSETFROM:-0500
TZOFFSETTO:-0600
TZNAME:CST
DTSTART:20271107T070000
END:STANDARD
END:VTIMEZONE
BEGIN:VEVENT
DTSTART;VALUE=DATE:20260101
DTEND;VALUE=DATE:20260215
DTSTAMP:20260425T080714
CREATED:20251230T141346Z
LAST-MODIFIED:20260107T161950Z
UID:4456-1767225600-1771113599@warrensburgmainstreet.org
SUMMARY:I Heart Downtown
DESCRIPTION:[vc_row disable_element=”yes”][vc_column][vc_column_text]It’s that time again to show up and spread love to your Downtown and the people\, places\, and things that make it so special. Let’s be honest\, we could all use a little love in our life—giving it or receiving it. So share what you love most about Downtown Warrensburg. Write a love letter to your downtown\, to a favorite local business\, to the owner who makes you feel welcome\, or to the bartender who knows your name. \nWhy? For the love of it. We’ll do our best to deliver your sweet messages to the right places and people\, we’ll share your words of affection on social media\, and we’ll all have a little more love in our hearts as a result. \nDownload this Love-Themed Coloring Page to share with your children and help spread the love\, create your own special Valentine’s design\, or just write a quick note. \n♥️ Drop your letters to our office at 125c N Holden Street located above the RISE Racks in Downtown Warrensburg. \n♥️ And if you can’t make it to Downtown Warrensburg\, Not to worry—that’s what the Internet is for. Just drop your love message electronically below and share your love from wherever you happen to be. \nTo show our appreciation for you helping us spread some love\, each letter submitted will be entered into a drawing for some LOVE-ly Main Street Swag! A winner will be selected on March 3rd and announced through our social media! \nGive some love. It’s good for the heart.[/vc_column_text][/vc_column][/vc_row][vc_row][vc_column][vc_single_image image=”4457″ img_size=”full” alignment=”center” css=””][vc_empty_space][vc_column_text css=””]It’s that time of year to show up\, spread love\, and celebrate the people and places that make Downtown Warrensburg so special. This winter\, we’re reinventing our beloved Love Letters to Downtown into the I Heart Downtown Campaign\, with the Economic Vitality Committee and Promotions Committee teaming up to help share the love far and wide. \nFrom January 1 through February 14\, we invite the community to send positive messages to our downtown businesses and the people who work there. Whether it’s a simple thank you\, a heartfelt shoutout\, or a note about what you love most\, your words matter. We’ll collect these messages and display them on heart cutouts posted on business doors throughout downtown—spreading encouragement\, appreciation\, and connection all season long. \nOn February 7\, we’ll host our first official I Heart Downtown Day. Community members are encouraged to come downtown to write and deliver their own messages\, volunteer\, and help us “sprinkle” Downtown Warrensburg with love. Participating businesses will also be sharing the love back by offering special deals or promotions that day. \nLet’s be honest—we could all use a little more love\, whether we’re giving it or receiving it. So tell us what you love about Downtown Warrensburg. Write to your favorite local business\, the owner who always makes you feel welcome\, or the employee who knows your name. \nWhy? For the love of it. \nWe’ll do our best to deliver your messages to the right places and people\, share your words of appreciation\, and help create a downtown filled with gratitude\, kindness\, and heart. \n❤️ Join us in celebrating Downtown Warrensburg—because love looks good here.[/vc_column_text][vc_empty_space][vc_button title=”Business Directory” full_width=”true” href=”https://warrensburgmainstreet.org/directory/”][vc_empty_space height=”50px”][/vc_column][/vc_row][vc_row][vc_column][vc_custom_heading text=”Submit Your Digital Love Letter Here!” use_theme_fonts=”yes”][vc_separator style=”solid” padding_bottom=”20″]I Love Downtown Warrensburg is no longer accepting submissions for 2026. Check back next year! [/vc_column][/vc_row]
URL:https://warrensburgmainstreet.org/event/i-heart-downtown/
CATEGORIES:Annual Events,Winter Events
ATTACH;FMTTYPE=image/jpeg:https://warrensburgmainstreet.org/wp-content/uploads/2025/12/LoveLetters.DowntownPost2025-2.jpg
END:VEVENT
END:VCALENDAR