BEGIN:VCALENDAR
VERSION:2.0
PRODID:-//Warrensburg Main Street - ECPv6.15.20//NONSGML v1.0//EN
CALSCALE:GREGORIAN
METHOD:PUBLISH
X-ORIGINAL-URL:https://warrensburgmainstreet.org
X-WR-CALDESC:Events for Warrensburg Main Street
REFRESH-INTERVAL;VALUE=DURATION:PT1H
X-Robots-Tag:noindex
X-PUBLISHED-TTL:PT1H
BEGIN:VTIMEZONE
TZID:America/Chicago
BEGIN:DAYLIGHT
TZOFFSETFROM:-0600
TZOFFSETTO:-0500
TZNAME:CDT
DTSTART:20250309T080000
END:DAYLIGHT
BEGIN:STANDARD
TZOFFSETFROM:-0500
TZOFFSETTO:-0600
TZNAME:CST
DTSTART:20251102T070000
END:STANDARD
BEGIN:DAYLIGHT
TZOFFSETFROM:-0600
TZOFFSETTO:-0500
TZNAME:CDT
DTSTART:20260308T080000
END:DAYLIGHT
BEGIN:STANDARD
TZOFFSETFROM:-0500
TZOFFSETTO:-0600
TZNAME:CST
DTSTART:20261101T070000
END:STANDARD
BEGIN:DAYLIGHT
TZOFFSETFROM:-0600
TZOFFSETTO:-0500
TZNAME:CDT
DTSTART:20270314T080000
END:DAYLIGHT
BEGIN:STANDARD
TZOFFSETFROM:-0500
TZOFFSETTO:-0600
TZNAME:CST
DTSTART:20271107T070000
END:STANDARD
END:VTIMEZONE
BEGIN:VEVENT
DTSTART;VALUE=DATE:20260503
DTEND;VALUE=DATE:20260510
DTSTAMP:20260425T090515
CREATED:20251216T204915Z
LAST-MODIFIED:20260108T151835Z
UID:4434-1777766400-1778371199@warrensburgmainstreet.org
SUMMARY:National Small Business Week
DESCRIPTION:[vc_row][vc_column][vc_single_image image=”4091″ img_size=”full” alignment=”center” css=””][vc_empty_space][/vc_column][/vc_row][vc_row][vc_column][vc_column_text css=””]National Small Business Week is all about showing love to the incredible local businesses that make Warrensburg special — and we’ve got a fun way to celebrate! \nDate: May 3rd – 9th[/vc_column_text][vc_empty_space height=”20px”][/vc_column][/vc_row][vc_row disable_element=”yes”][vc_column][vc_button title=”Facebook Event” target=”_blank” full_width=”true” href=”https://www.facebook.com/events/2040072913139325/”][vc_empty_space height=”10px”][vc_button title=”View Map” target=”_blank” full_width=”true” href=”https://warrensburgmainstreet.org/wp-content/uploads/2025/04/2025-Star-Theater.png”][/vc_column][/vc_row][vc_row disable_element=”yes”][vc_column][vc_empty_space height=”80px”][vc_custom_heading text=”THANK YOU TO OUR SPONSORS!” font_container=”tag:h2|text_align:center” use_theme_fonts=”yes”][vc_separator style=”solid” color=”#0a0a0a” padding_top=”10″ padding_bottom=”20″][vc_empty_space height=”20px”][/vc_column][/vc_row]
URL:https://warrensburgmainstreet.org/event/national-small-business-week-2/
CATEGORIES:Annual Events,Spring Events
ATTACH;FMTTYPE=image/png:https://warrensburgmainstreet.org/wp-content/uploads/2025/04/National-Small-Business-Week-2025-Facebook-Post-1.png
END:VEVENT
BEGIN:VEVENT
DTSTART;VALUE=DATE:20260509
DTEND;VALUE=DATE:20260510
DTSTAMP:20260425T090515
CREATED:20260119T201009Z
LAST-MODIFIED:20260119T201009Z
UID:4486-1778284800-1778371199@warrensburgmainstreet.org
SUMMARY:May 9\, 2026
DESCRIPTION:
URL:https://warrensburgmainstreet.org/event/may-9-2026/
CATEGORIES:One Day Vendor
END:VEVENT
BEGIN:VEVENT
DTSTART;TZID=America/Chicago:20260515T190000
DTEND;TZID=America/Chicago:20260515T230000
DTSTAMP:20260425T090515
CREATED:20251216T205122Z
LAST-MODIFIED:20260410T183040Z
UID:4435-1778871600-1778886000@warrensburgmainstreet.org
SUMMARY:Summer Movie Night - May
DESCRIPTION:[vc_row][vc_column][vc_single_image image=”4451″ img_size=”full” alignment=”center” css=””][vc_empty_space][/vc_column][/vc_row][vc_row][vc_column][vc_column_text css=””]Come gather at the University of Central Missouri Selmo Park for a FREE family-friendly movie! Bring your blankets and chairs and join us for a great event that is fun for the whole family! Our Summer Movie Night Series will take place May\, June\, August & September on the third Friday. \nOur May Movie on the Lawn was planned with Mrs. Maduro’s and Mrs. Minor’s 5th grade classes at Sterling Elementary. They will be hosting a small event before the movie with Food Trucks\, Bounce Houses and some family friendly activities & games. The event starts at 7:00pm and the movie will be shown at Sunset. Our May Movie will be The Parent Trap which was selected and voted on by the students at Sterling Elementary School. \n*Please remember that all anyone under the age of 18 must have a parent/guardian present for the event!* \nDate: 5/15/2026\nTime: 7:00 – 11:00 pm[/vc_column_text][vc_empty_space height=”20px”][/vc_column][/vc_row][vc_row disable_element=”yes”][vc_column][vc_button title=”Facebook Event” target=”_blank” full_width=”true” href=”https://www.facebook.com/events/2040072913139325/”][vc_empty_space height=”10px”][vc_button title=”View Map” target=”_blank” full_width=”true” href=”https://warrensburgmainstreet.org/wp-content/uploads/2025/04/2025-Star-Theater.png”][/vc_column][/vc_row][vc_row][vc_column][vc_empty_space height=”80px”][vc_custom_heading text=”THANK YOU TO OUR SPONSORS!” font_container=”tag:h2|text_align:center” use_theme_fonts=”yes”][vc_separator style=”solid” color=”#0a0a0a” padding_top=”10″ padding_bottom=”20″][/vc_column][/vc_row]
URL:https://warrensburgmainstreet.org/event/summer-movie-night-may/
CATEGORIES:Annual Events,Summer Events
ATTACH;FMTTYPE=image/jpeg:https://warrensburgmainstreet.org/wp-content/uploads/2025/12/summermovienightseries-familykids-scaled.jpg
END:VEVENT
BEGIN:VEVENT
DTSTART;VALUE=DATE:20260516
DTEND;VALUE=DATE:20260517
DTSTAMP:20260425T090515
CREATED:20260119T201152Z
LAST-MODIFIED:20260119T201152Z
UID:4487-1778889600-1778975999@warrensburgmainstreet.org
SUMMARY:May 16\, 2026
DESCRIPTION:
URL:https://warrensburgmainstreet.org/event/may-16-2026/
CATEGORIES:One Day Vendor
END:VEVENT
BEGIN:VEVENT
DTSTART;VALUE=DATE:20260520
DTEND;VALUE=DATE:20260521
DTSTAMP:20260425T090515
CREATED:20260227T152222Z
LAST-MODIFIED:20260227T152222Z
UID:4569-1779235200-1779321599@warrensburgmainstreet.org
SUMMARY:May 20th
DESCRIPTION:
URL:https://warrensburgmainstreet.org/event/may-20th/
CATEGORIES:Art Walk
END:VEVENT
BEGIN:VEVENT
DTSTART;VALUE=DATE:20260520
DTEND;VALUE=DATE:20260524
DTSTAMP:20260425T090515
CREATED:20260327T142141Z
LAST-MODIFIED:20260410T193122Z
UID:4609-1779235200-1779580799@warrensburgmainstreet.org
SUMMARY:Historic Walking Tour
DESCRIPTION:[vc_row][vc_column][vc_single_image image=”4610″ img_size=”full” alignment=”center” css=””][vc_empty_space][/vc_column][/vc_row][vc_row][vc_column][vc_column_text css=””]Celebrate National Historic Preservation Month with Warrensburg Main Street as we bring history to life through the Stories of Downtown Historical Walking Tour. \nThis special event highlights the rich history\, architecture\, and stories that make our downtown unique. While our permanent walking tour is available year-round\, on May 21st and May 23rd you’ll have the opportunity to experience it guided by local storytellers who will lead you through six featured stops. \nTours will begin at the Johnson County Courthouse following the Eulogy of the Dog. \nMay 20th | Tours begin at 6:00 pm\nMay 23rd | Tours begin at 9:00 am\nLocation: Old Drum Statue (Johnson County Courthouse) \nSpace is limited\, so be sure to reserve your spot early.[/vc_column_text][vc_empty_space][/vc_column][/vc_row][vc_row][vc_column][vc_button title=”Sign up For A Tour” target=”_blank” full_width=”true” href=”https://www.signupgenius.com/go/20F0D4FA8AC2EA7F58-63381328-2026#/”][vc_empty_space height=”10px”][vc_button title=”Facebook Event” target=”_blank” full_width=”true” href=”https://www.facebook.com/share/17DU5ZPGMP/”][vc_empty_space][/vc_column][/vc_row][vc_row disable_element=”yes”][vc_column][vc_button title=”View Map” target=”_blank” full_width=”true” href=”https://warrensburgmainstreet.org/wp-content/uploads/2025/04/2025-Star-Theater.png”][/vc_column][/vc_row][vc_row disable_element=”yes”][vc_column][vc_empty_space height=”80px”][vc_custom_heading text=”THANK YOU TO OUR SPONSORS!” font_container=”tag:h2|text_align:center” use_theme_fonts=”yes”][vc_separator style=”solid” color=”#0a0a0a” padding_top=”10″ padding_bottom=”20″][/vc_column][/vc_row]
URL:https://warrensburgmainstreet.org/event/historic-walking-tour-2/
CATEGORIES:Annual Events,Spring Events
ATTACH;FMTTYPE=image/jpeg:https://warrensburgmainstreet.org/wp-content/uploads/2026/03/494356136_29766229256325624_9131244364425357216_n.jpg
END:VEVENT
BEGIN:VEVENT
DTSTART;VALUE=DATE:20260523
DTEND;VALUE=DATE:20260524
DTSTAMP:20260425T090515
CREATED:20260119T202350Z
LAST-MODIFIED:20260119T202350Z
UID:4488-1779494400-1779580799@warrensburgmainstreet.org
SUMMARY:May 23\, 2026
DESCRIPTION:
URL:https://warrensburgmainstreet.org/event/may-23-2026/
CATEGORIES:One Day Vendor
END:VEVENT
BEGIN:VEVENT
DTSTART;VALUE=DATE:20260530
DTEND;VALUE=DATE:20260531
DTSTAMP:20260425T090515
CREATED:20260119T202412Z
LAST-MODIFIED:20260119T202412Z
UID:4489-1780099200-1780185599@warrensburgmainstreet.org
SUMMARY:May 30\, 2026
DESCRIPTION:
URL:https://warrensburgmainstreet.org/event/may-30-2026/
CATEGORIES:One Day Vendor
END:VEVENT
BEGIN:VEVENT
DTSTART;TZID=America/Chicago:20260602T173000
DTEND;TZID=America/Chicago:20260602T173000
DTSTAMP:20260425T090515
CREATED:20260403T144242Z
LAST-MODIFIED:20260403T144457Z
UID:4616-1780421400-1780421400@warrensburgmainstreet.org
SUMMARY:Whiskey & Cigars
DESCRIPTION:[vc_row][vc_column][vc_single_image image=”4604″ img_size=”full” alignment=”center” css=””][vc_empty_space][/vc_column][/vc_row][vc_row][vc_column][vc_column_text css=””]Join us for an unforgettable evening at our very first Whiskey & Cigars—a men-focused fundraiser celebrating the rich tradition and craftsmanship of fine whiskey and premium cigars. Inspired by the success of our beloved Piccadilly event for women\, this “reverse Piccadilly” brings a bold new experience designed with gentlemen in mind. \nEnjoy a relaxed\, upscale atmosphere where guests can savor curated whiskeys\, indulge in quality cigars\, and connect with friends old and new. The evening will feature an exciting live auction\, raffle prizes\, and plenty of opportunities to give back while having a great time. \nWhether you’re a whiskey enthusiast\, a cigar aficionado\, or just looking for a unique night out\, this event promises great company\, memorable experiences\, and a meaningful impact. \nAll proceeds support the continued growth and vitality of downtown Warrensburg—helping keep our community vibrant\, welcoming\, and thriving. \nRaise a glass\, light a cigar\, and join us for a night that gives back. \nDate: June 2nd\, 2026\nTime: Doors Open at 5:30 pm\nLocation: Milestones Event Center[/vc_column_text][vc_empty_space height=”20px”][/vc_column][/vc_row][vc_row disable_element=”yes”][vc_column][vc_button title=”Facebook Event” target=”_blank” full_width=”true” href=”https://www.facebook.com/events/2040072913139325/”][vc_empty_space height=”10px”][vc_button title=”View Map” target=”_blank” full_width=”true” href=”https://warrensburgmainstreet.org/wp-content/uploads/2025/04/2025-Star-Theater.png”][/vc_column][/vc_row][vc_row disable_element=”yes”][vc_column][vc_empty_space height=”80px”][vc_custom_heading text=”THANK YOU TO OUR SPONSORS!” font_container=”tag:h2|text_align:center” use_theme_fonts=”yes”][vc_separator style=”solid” color=”#0a0a0a” padding_top=”10″ padding_bottom=”20″][vc_empty_space height=”20px”][/vc_column][/vc_row]
URL:https://warrensburgmainstreet.org/reverse-piccadilly/
CATEGORIES:Annual Events,Spring Events
ATTACH;FMTTYPE=image/jpeg:https://warrensburgmainstreet.org/wp-content/uploads/2026/04/WhiskeyCigarsFundraiser2.jpg
END:VEVENT
BEGIN:VEVENT
DTSTART;VALUE=DATE:20260606
DTEND;VALUE=DATE:20260607
DTSTAMP:20260425T090515
CREATED:20260119T202438Z
LAST-MODIFIED:20260119T202438Z
UID:4490-1780704000-1780790399@warrensburgmainstreet.org
SUMMARY:June 6\, 2026
DESCRIPTION:
URL:https://warrensburgmainstreet.org/event/june-6-2026/
CATEGORIES:One Day Vendor
END:VEVENT
BEGIN:VEVENT
DTSTART;VALUE=DATE:20260613
DTEND;VALUE=DATE:20260614
DTSTAMP:20260425T090515
CREATED:20260119T202510Z
LAST-MODIFIED:20260119T202510Z
UID:4491-1781308800-1781395199@warrensburgmainstreet.org
SUMMARY:June 13\, 2026
DESCRIPTION:
URL:https://warrensburgmainstreet.org/event/june-13-2026/
CATEGORIES:One Day Vendor
END:VEVENT
BEGIN:VEVENT
DTSTART;VALUE=DATE:20260617
DTEND;VALUE=DATE:20260618
DTSTAMP:20260425T090515
CREATED:20260227T152244Z
LAST-MODIFIED:20260227T152244Z
UID:4570-1781654400-1781740799@warrensburgmainstreet.org
SUMMARY:June 17th
DESCRIPTION:
URL:https://warrensburgmainstreet.org/event/june-17th/
CATEGORIES:Art Walk
END:VEVENT
BEGIN:VEVENT
DTSTART;TZID=America/Chicago:20260619T201500
DTEND;TZID=America/Chicago:20260619T214500
DTSTAMP:20260425T090515
CREATED:20251216T205327Z
LAST-MODIFIED:20260218T161456Z
UID:4436-1781900100-1781905500@warrensburgmainstreet.org
SUMMARY:Summer Movie Night - June
DESCRIPTION:[vc_row][vc_column][vc_single_image image=”4445″ img_size=”full” alignment=”center” css=””][vc_empty_space][/vc_column][/vc_row][vc_row][vc_column][vc_column_text css=””]Join us for a FREE outdoor movie! Bring your blankets and chairs and join us for a great event for the whole family! Our Summer Movie Night Series will take place June\, August and September on the third Friday. \nDate: 6/19/2026\nTime: 8:15 pm – 9:45 pm[/vc_column_text][vc_empty_space height=”20px”][/vc_column][/vc_row][vc_row disable_element=”yes”][vc_column][vc_button title=”Facebook Event” target=”_blank” full_width=”true” href=”https://www.facebook.com/events/2040072913139325/”][vc_empty_space height=”10px”][vc_button title=”View Map” target=”_blank” full_width=”true” href=”https://warrensburgmainstreet.org/wp-content/uploads/2025/04/2025-Star-Theater.png”][/vc_column][/vc_row][vc_row][vc_column][vc_empty_space height=”80px”][vc_custom_heading text=”THANK YOU TO OUR SPONSORS!” font_container=”tag:h2|text_align:center” use_theme_fonts=”yes”][vc_separator style=”solid” color=”#0a0a0a” padding_top=”10″ padding_bottom=”20″][/vc_column][/vc_row]
URL:https://warrensburgmainstreet.org/event/summer-movie-night-june/
CATEGORIES:Annual Events,Summer Events
ATTACH;FMTTYPE=image/jpeg:https://warrensburgmainstreet.org/wp-content/uploads/2025/12/summermovienightseriesadult.jpg
END:VEVENT
BEGIN:VEVENT
DTSTART;VALUE=DATE:20260620
DTEND;VALUE=DATE:20260621
DTSTAMP:20260425T090515
CREATED:20260119T202600Z
LAST-MODIFIED:20260119T202600Z
UID:4492-1781913600-1781999999@warrensburgmainstreet.org
SUMMARY:June 20\, 2026
DESCRIPTION:
URL:https://warrensburgmainstreet.org/event/june-20-2026/
CATEGORIES:One Day Vendor
END:VEVENT
BEGIN:VEVENT
DTSTART;VALUE=DATE:20260627
DTEND;VALUE=DATE:20260628
DTSTAMP:20260425T090515
CREATED:20260119T203106Z
LAST-MODIFIED:20260119T203106Z
UID:4493-1782518400-1782604799@warrensburgmainstreet.org
SUMMARY:June 27\, 2026
DESCRIPTION:
URL:https://warrensburgmainstreet.org/event/june-27-2026/
CATEGORIES:One Day Vendor
END:VEVENT
BEGIN:VEVENT
DTSTART;VALUE=DATE:20260704
DTEND;VALUE=DATE:20260705
DTSTAMP:20260425T090515
CREATED:20260119T203246Z
LAST-MODIFIED:20260119T203246Z
UID:4494-1783123200-1783209599@warrensburgmainstreet.org
SUMMARY:July 4\, 2026
DESCRIPTION:
URL:https://warrensburgmainstreet.org/event/july-4-2026/
CATEGORIES:One Day Vendor
END:VEVENT
BEGIN:VEVENT
DTSTART;TZID=America/Chicago:20260704T090000
DTEND;TZID=America/Chicago:20260704T110000
DTSTAMP:20260425T090515
CREATED:20251216T205449Z
LAST-MODIFIED:20260218T150958Z
UID:4437-1783155600-1783162800@warrensburgmainstreet.org
SUMMARY:Children's Patriotic Bike Parade
DESCRIPTION:[vc_row][vc_column][vc_single_image image=”4444″ img_size=”full” alignment=”center” css=””][vc_empty_space][/vc_column][/vc_row][vc_row][vc_column][vc_column_text css=””]Come out for the cutest patriotic event! Join us for our annual Patriotic Children’s Bike Parade in Downtown Warrensburg. Decorate your wagons\, trikes\, bikes\, and pets\, and come be part of the 4th of July Patriotic Children’s Parade. We will have yard games\, a petting zoo\, and more! This is a FREE event for the whole family. Come stroll and shop at the Warrensburg Farmers’ Market then show off your patriotic spirit in our parade. \nDate: 7/4/2026\nTime: 9:00 am – 11:00 am[/vc_column_text][vc_empty_space height=”20px”][/vc_column][/vc_row][vc_row disable_element=”yes”][vc_column][vc_button title=”Facebook Event” target=”_blank” full_width=”true” href=”https://www.facebook.com/events/2040072913139325/”][vc_empty_space height=”10px”][vc_button title=”View Map” target=”_blank” full_width=”true” href=”https://warrensburgmainstreet.org/wp-content/uploads/2025/04/2025-Star-Theater.png”][/vc_column][/vc_row][vc_row][vc_column][vc_empty_space height=”80px”][vc_custom_heading text=”THANK YOU TO OUR SPONSORS!” font_container=”tag:h2|text_align:center” use_theme_fonts=”yes”][vc_separator style=”solid” color=”#0a0a0a” padding_top=”10″ padding_bottom=”20″][vc_row_inner][vc_column_inner width=”1/4″][/vc_column_inner][vc_column_inner width=”1/4″ offset=”vc_col-xs-6″][vc_single_image image=”4002″ img_size=”full” alignment=”center” css=””][/vc_column_inner][vc_column_inner width=”1/4″ offset=”vc_col-xs-6″][vc_single_image image=”4525″ img_size=”full” alignment=”center” css=””][/vc_column_inner][vc_column_inner width=”1/4″][/vc_column_inner][/vc_row_inner][vc_row_inner disable_element=”yes”][vc_column_inner][/vc_column_inner][/vc_row_inner][/vc_column][/vc_row]
URL:https://warrensburgmainstreet.org/event/childrens-patriotic-bike-parade-4/
CATEGORIES:Annual Events,Summer Events
ATTACH;FMTTYPE=image/jpeg:https://warrensburgmainstreet.org/wp-content/uploads/2025/12/childrenspatrioticbikeparade.jpg
END:VEVENT
BEGIN:VEVENT
DTSTART;VALUE=DATE:20260711
DTEND;VALUE=DATE:20260712
DTSTAMP:20260425T090515
CREATED:20260119T204803Z
LAST-MODIFIED:20260119T204803Z
UID:4495-1783728000-1783814399@warrensburgmainstreet.org
SUMMARY:July 11\, 2026
DESCRIPTION:
URL:https://warrensburgmainstreet.org/event/july-11-2026/
CATEGORIES:One Day Vendor
END:VEVENT
BEGIN:VEVENT
DTSTART;VALUE=DATE:20260715
DTEND;VALUE=DATE:20260716
DTSTAMP:20260425T090515
CREATED:20260227T152301Z
LAST-MODIFIED:20260227T152301Z
UID:4571-1784073600-1784159999@warrensburgmainstreet.org
SUMMARY:July 15th
DESCRIPTION:
URL:https://warrensburgmainstreet.org/event/july-15th/
CATEGORIES:Art Walk
END:VEVENT
BEGIN:VEVENT
DTSTART;VALUE=DATE:20260718
DTEND;VALUE=DATE:20260719
DTSTAMP:20260425T090515
CREATED:20260119T204823Z
LAST-MODIFIED:20260119T204823Z
UID:4496-1784332800-1784419199@warrensburgmainstreet.org
SUMMARY:July 18\, 2026
DESCRIPTION:
URL:https://warrensburgmainstreet.org/event/july-18-2026/
CATEGORIES:One Day Vendor
END:VEVENT
BEGIN:VEVENT
DTSTART;VALUE=DATE:20260725
DTEND;VALUE=DATE:20260726
DTSTAMP:20260425T090515
CREATED:20260127T145107Z
LAST-MODIFIED:20260127T153439Z
UID:4511-1784937600-1785023999@warrensburgmainstreet.org
SUMMARY:July 25\, 2026
DESCRIPTION:
URL:https://warrensburgmainstreet.org/event/july-25-2026/
CATEGORIES:One Day Vendor
END:VEVENT
BEGIN:VEVENT
DTSTART;VALUE=DATE:20260801
DTEND;VALUE=DATE:20260802
DTSTAMP:20260425T090515
CREATED:20260119T204851Z
LAST-MODIFIED:20260127T153359Z
UID:4497-1785542400-1785628799@warrensburgmainstreet.org
SUMMARY:August 1\, 2026
DESCRIPTION:
URL:https://warrensburgmainstreet.org/event/august-1-2026/
CATEGORIES:One Day Vendor
END:VEVENT
BEGIN:VEVENT
DTSTART;VALUE=DATE:20260808
DTEND;VALUE=DATE:20260809
DTSTAMP:20260425T090515
CREATED:20260119T204927Z
LAST-MODIFIED:20260119T204927Z
UID:4498-1786147200-1786233599@warrensburgmainstreet.org
SUMMARY:August 8\, 2026
DESCRIPTION:
URL:https://warrensburgmainstreet.org/event/august-8-2026/
CATEGORIES:One Day Vendor
END:VEVENT
BEGIN:VEVENT
DTSTART;VALUE=DATE:20260815
DTEND;VALUE=DATE:20260816
DTSTAMP:20260425T090515
CREATED:20260127T145127Z
LAST-MODIFIED:20260127T153344Z
UID:4512-1786752000-1786838399@warrensburgmainstreet.org
SUMMARY:August 15\, 2026
DESCRIPTION:
URL:https://warrensburgmainstreet.org/event/august-15-2026/
CATEGORIES:One Day Vendor
END:VEVENT
BEGIN:VEVENT
DTSTART;VALUE=DATE:20260819
DTEND;VALUE=DATE:20260820
DTSTAMP:20260425T090515
CREATED:20260227T152324Z
LAST-MODIFIED:20260227T152324Z
UID:4572-1787097600-1787183999@warrensburgmainstreet.org
SUMMARY:August 19th
DESCRIPTION:
URL:https://warrensburgmainstreet.org/event/august-19th/
CATEGORIES:Art Walk
END:VEVENT
BEGIN:VEVENT
DTSTART;TZID=America/Chicago:20260821T190000
DTEND;TZID=America/Chicago:20260821T220000
DTSTAMP:20260425T090515
CREATED:20260326T141249Z
LAST-MODIFIED:20260326T141249Z
UID:4597-1787338800-1787349600@warrensburgmainstreet.org
SUMMARY:Summer Movie Night - August
DESCRIPTION:[vc_row][vc_column][vc_single_image image=”4598″ img_size=”full” alignment=”center” css=””][vc_empty_space][/vc_column][/vc_row][vc_row][vc_column][vc_column_text css=””]Join us for a FREE\, fun-filled family movie night! Grab your blankets\, chairs\, and your loved ones for a fresh new experience in our Summer Movie Night series. \nDate: 8/21/2026\nTime: 7:00 pm – 10:00 pm \n[/vc_column_text][vc_empty_space height=”20px”][/vc_column][/vc_row][vc_row disable_element=”yes”][vc_column][vc_button title=”Facebook Event” target=”_blank” full_width=”true” href=”https://www.facebook.com/events/2040072913139325/”][vc_empty_space height=”10px”][vc_button title=”View Map” target=”_blank” full_width=”true” href=”https://warrensburgmainstreet.org/wp-content/uploads/2025/04/2025-Star-Theater.png”][/vc_column][/vc_row][vc_row][vc_column][vc_empty_space height=”80px”][vc_custom_heading text=”THANK YOU TO OUR SPONSORS!” font_container=”tag:h2|text_align:center” use_theme_fonts=”yes”][vc_separator style=”solid” color=”#0a0a0a” padding_top=”10″ padding_bottom=”20″][/vc_column][/vc_row]
URL:https://warrensburgmainstreet.org/event/summer-movie-night-august/
CATEGORIES:Annual Events,Summer Events
ATTACH;FMTTYPE=image/jpeg:https://warrensburgmainstreet.org/wp-content/uploads/2026/03/IMG_1896.jpg
END:VEVENT
BEGIN:VEVENT
DTSTART;VALUE=DATE:20260822
DTEND;VALUE=DATE:20260823
DTSTAMP:20260425T090515
CREATED:20260119T205006Z
LAST-MODIFIED:20260127T153150Z
UID:4499-1787356800-1787443199@warrensburgmainstreet.org
SUMMARY:August 22\, 2026
DESCRIPTION:
URL:https://warrensburgmainstreet.org/event/august-22-2026/
CATEGORIES:One Day Vendor
END:VEVENT
BEGIN:VEVENT
DTSTART;VALUE=DATE:20260829
DTEND;VALUE=DATE:20260830
DTSTAMP:20260425T090515
CREATED:20260127T145151Z
LAST-MODIFIED:20260127T145151Z
UID:4513-1787961600-1788047999@warrensburgmainstreet.org
SUMMARY:August 29\, 2026
DESCRIPTION:
URL:https://warrensburgmainstreet.org/event/august-29-2026-2/
CATEGORIES:One Day Vendor
END:VEVENT
BEGIN:VEVENT
DTSTART;VALUE=DATE:20260905
DTEND;VALUE=DATE:20260906
DTSTAMP:20260425T090515
CREATED:20260127T145215Z
LAST-MODIFIED:20260127T145215Z
UID:4514-1788566400-1788652799@warrensburgmainstreet.org
SUMMARY:September 5\, 2026
DESCRIPTION:
URL:https://warrensburgmainstreet.org/event/september-5-2026/
CATEGORIES:One Day Vendor
END:VEVENT
BEGIN:VEVENT
DTSTART;VALUE=DATE:20260912
DTEND;VALUE=DATE:20260913
DTSTAMP:20260425T090515
CREATED:20260119T205136Z
LAST-MODIFIED:20260127T153121Z
UID:4500-1789171200-1789257599@warrensburgmainstreet.org
SUMMARY:September 12\, 2026
DESCRIPTION:
URL:https://warrensburgmainstreet.org/event/september-12-2026/
CATEGORIES:One Day Vendor
END:VEVENT
END:VCALENDAR